BEGIN:VCALENDAR
VERSION:2.0
PRODID:-//hacksw/handcal//NONSGML v1.0//EN
BEGIN:VEVENT
SUMMARY:SUPERBE VICTOIRE A L'EXTERIEUR
UID:53d9cbc5-32c5-4a8e-b336-639964ef1098
DTSTART:20161119T160000Z
DTEND:20161119T193000Z
LOCATION:Localisation Salle des Augustins - Montee du Stade 06190 ROQUEBRUNE CAP MARTIN
CATEGORIES:Sportif
STATUS:
DESCRIPTION:<p>Notre photo : GUDAYOL Thomas</p>
 
URL;VALUE=URI:https://ping-courthezonnais.sportsregions.fr/evenements/2016/11/19/superbe-victoire-a-lexterieur-849825
END:VEVENT
END:VCALENDAR
