BEGIN:VCALENDAR
VERSION:2.0
PRODID:-//hacksw/handcal//NONSGML v1.0//EN
BEGIN:VEVENT
SUMMARY:ENFIN LA PREMIERE VICTOIRE
UID:fdb9e6af-b7e7-43fe-8314-00a7f0ade8a8
DTSTART:20161119T160000Z
DTEND:20161119T190000Z
LOCATION:Localisation Complexe Ste Famille - Rue Arthur RIMBAUD 84200 CARPENTRAS
CATEGORIES:Sportif
STATUS:
DESCRIPTION:<p>Notre photo : BREBION Vitalic</p>
 
URL;VALUE=URI:https://ping-courthezonnais.sportsregions.fr/evenements/2016/11/19/enfin-la-premiere-victoire-849822
END:VEVENT
END:VCALENDAR
