BEGIN:VCALENDAR
VERSION:2.0
PRODID:-//hacksw/handcal//NONSGML v1.0//EN
BEGIN:VEVENT
SUMMARY:VICTOIRE DE JUSTESSE
UID:8a60e902-7448-4fbf-9017-ef498ef36a0c
DTSTART:20161118T193000Z
DTEND:20161118T221500Z
LOCATION:Localisation   
CATEGORIES:Sportif
STATUS:
DESCRIPTION:<p>Notre photo : REY Stephane</p>
 
URL;VALUE=URI:https://ping-courthezonnais.sportsregions.fr/evenements/2016/11/18/victoire-de-justesse-849571
END:VEVENT
END:VCALENDAR
