BEGIN:VCALENDAR
VERSION:2.0
PRODID:-//hacksw/handcal//NONSGML v1.0//EN
BEGIN:VEVENT
SUMMARY:LA DEROUTE
UID:296c7da3-7d7e-4630-b7a5-8d6c4ef201f1
DTSTART:20161118T193000Z
DTEND:20161118T223000Z
LOCATION:Localisation Salle Polyvalente - Bd Jean Vilar 84350 COURTHEZON
CATEGORIES:Sportif
STATUS:
DESCRIPTION:<p>Notre Photo : Jeremy CAGNIAC coacher par Gerard et
 Jimmy</p>
 
URL;VALUE=URI:https://ping-courthezonnais.sportsregions.fr/evenements/2016/11/18/la-deroute-849562
END:VEVENT
END:VCALENDAR
