BEGIN:VCALENDAR
VERSION:2.0
PRODID:-//hacksw/handcal//NONSGML v1.0//EN
BEGIN:VEVENT
SUMMARY:MANQUE LA VICTOIRE D'UN RIEN
UID:35833821-a74f-4c95-bf18-f7091800a3d6
DTSTART:20161105T160000Z
DTEND:20161105T184500Z
LOCATION:Localisation Salle Polyvalente - Bd Jean Vilar 84350 COURTHEZON
CATEGORIES:Sportif
STATUS:
DESCRIPTION:<p>Notre photo : L'equipe R2A ( equipe 3) contre
 SALON</p>
 
URL;VALUE=URI:https://ping-courthezonnais.sportsregions.fr/evenements/2016/11/05/manque-la-victoire-dun-rien-842822
END:VEVENT
END:VCALENDAR
