BEGIN:VCALENDAR
VERSION:2.0
PRODID:-//hacksw/handcal//NONSGML v1.0//EN
BEGIN:VEVENT
SUMMARY:MANQUE DE REALISME
UID:0a07b387-720f-4bbc-8a05-8acd3c741650
DTSTART:20161104T193000Z
DTEND:20161104T220000Z
LOCATION:Localisation Gymnase Martin LUTHER KING 84800 ISLE SUR LA SORGUE
CATEGORIES:Sportif
STATUS:
DESCRIPTION:<p>Notre photo : BLANC Julien</p>
 
URL;VALUE=URI:https://ping-courthezonnais.sportsregions.fr/evenements/2016/11/04/manque-de-realisme-842786
END:VEVENT
END:VCALENDAR
