BEGIN:VCALENDAR
VERSION:2.0
PRODID:-//hacksw/handcal//NONSGML v1.0//EN
BEGIN:VEVENT
SUMMARY:BELLE VICTOIRE A L'EXTERIEUR
UID:77d13c4f-2f7d-47ed-bc87-cb52b2655f5d
DTSTART:20161104T193000Z
DTEND:20161104T220000Z
LOCATION:Localisation FERME DES COURREGES 84100 ORANGE
CATEGORIES:Sportif
STATUS:
DESCRIPTION:<p>Notre photo : CANET Christophe</p>
 
URL;VALUE=URI:https://ping-courthezonnais.sportsregions.fr/evenements/2016/11/04/belle-victoire-a-lexterieur-842797
END:VEVENT
END:VCALENDAR
