BEGIN:VCALENDAR
VERSION:2.0
PRODID:-//hacksw/handcal//NONSGML v1.0//EN
BEGIN:VEVENT
SUMMARY:MANQUE DE QUELQUE CHOSE
UID:9e33a725-2454-42a7-8a3c-f04854913afc
DTSTART:20161016T080000Z
DTEND:20161016T110000Z
LOCATION:Localisation Salle Daniel MAFFREN - Avenue Pasteur 04200 SISTERON
CATEGORIES:Sportif
STATUS:
DESCRIPTION:<p>Notre photo : Fabrice MASSONNET</p>
 
URL;VALUE=URI:https://ping-courthezonnais.sportsregions.fr/evenements/2016/10/16/manque-de-quelque-chose-828967
END:VEVENT
END:VCALENDAR
