BEGIN:VCALENDAR
VERSION:2.0
PRODID:-//hacksw/handcal//NONSGML v1.0//EN
BEGIN:VEVENT
SUMMARY:LA D1 TOUT PRET DE LA VICTOIRE
UID:bc851d90-f2ec-41b2-8ba4-c1dcaf3cf3ea
DTSTART:20161014T183000Z
DTEND:20161014T214500Z
LOCATION:Localisation Gymnase Martin LUTHER KING 84800 ISLE SUR LA SORGUE
CATEGORIES:Sportif
STATUS:
DESCRIPTION:<p>Notre photo : Jeremie CAGNIAC</p>
 
URL;VALUE=URI:https://ping-courthezonnais.sportsregions.fr/evenements/2016/10/14/la-d1-tout-pret-de-la-victoire-828366
END:VEVENT
END:VCALENDAR
