BEGIN:VCALENDAR
VERSION:2.0
PRODID:-//hacksw/handcal//NONSGML v1.0//EN
BEGIN:VEVENT
SUMMARY:UNE VICTOIRE VENUE D'AILLEURS
UID:5331a1a5-b710-4280-8337-2a944404d7b7
DTSTART:20161002T120000Z
DTEND:20161002T153000Z
LOCATION:Localisation Gymnase de la Planquette - Avenue Henri BARBUSSE 83130 LA GARDE
CATEGORIES:Sportif
STATUS:
DESCRIPTION:<p>Notre photo : TRANS Olivier</p>
 
URL;VALUE=URI:https://ping-courthezonnais.sportsregions.fr/evenements/2016/10/02/une-victoire-venue-dailleurs-819181
END:VEVENT
END:VCALENDAR
