BEGIN:VCALENDAR
VERSION:2.0
PRODID:-//hacksw/handcal//NONSGML v1.0//EN
BEGIN:VEVENT
SUMMARY:PAS LOIN DE LA VICTOIRE
UID:9b7467a7-23f5-4def-90f8-5d07fa0253c8
DTSTART:20161001T150000Z
DTEND:20161001T180000Z
LOCATION:Localisation Salle Charles PARNAUD - 10 Traverse du Rossignol 83260 LA CRAU
CATEGORIES:Sportif
STATUS:
DESCRIPTION:<p>Notre photo : MEYNADIER Regis</p>
 
URL;VALUE=URI:https://ping-courthezonnais.sportsregions.fr/evenements/2016/10/01/pas-loin-de-la-victoire-818578
END:VEVENT
END:VCALENDAR
