BEGIN:VCALENDAR
VERSION:2.0
PRODID:-//hacksw/handcal//NONSGML v1.0//EN
BEGIN:VEVENT
SUMMARY:JOLIE VICTOIRE A L'EXTERIEUR
UID:ca936305-e1c1-4ead-9f20-24a59c1df646
DTSTART:20161001T150000Z
DTEND:20161001T181500Z
LOCATION:Localisation Gymnase du Lac 13110 ST-MARTIN DE CRAU
CATEGORIES:Sportif
STATUS:
DESCRIPTION:<p>Notre photo : VIEU Julien</p>
 
URL;VALUE=URI:https://ping-courthezonnais.sportsregions.fr/evenements/2016/10/01/jolie-victoire-a-lexterieur-818573
END:VEVENT
END:VCALENDAR
