BEGIN:VCALENDAR
VERSION:2.0
PRODID:-//hacksw/handcal//NONSGML v1.0//EN
BEGIN:VEVENT
SUMMARY:TRES BELLE VICTOIRE
UID:795a19be-1ee9-4a28-907f-cb5ffd0699a1
DTSTART:20160930T183000Z
DTEND:20160930T210000Z
LOCATION:Localisation Salle Polyvalente - Bd Jean Vilar 84350 COURTHEZON
CATEGORIES:Sportif
STATUS:
DESCRIPTION:<p>Notre photo : L equipe de D1</p>
 
URL;VALUE=URI:https://ping-courthezonnais.sportsregions.fr/evenements/2016/09/30/tres-belle-victoire-818016
END:VEVENT
END:VCALENDAR
