BEGIN:VCALENDAR
VERSION:2.0
PRODID:-//hacksw/handcal//NONSGML v1.0//EN
BEGIN:VEVENT
SUMMARY:LA D3 TOUT PRET DE LA VICTOIRE
UID:3ac14692-dc7c-4476-9f11-ed36eb98bdbe
DTSTART:20160923T183000Z
DTEND:20160924T211500Z
LOCATION:Localisation Salle Polyvalente - Place du Marche 30131 PUJAUT
CATEGORIES:Sportif
STATUS:
DESCRIPTION:<p>Notre photo : Christophe CANET</p>
 
URL;VALUE=URI:https://ping-courthezonnais.sportsregions.fr/evenements/2016/09/23/la-d3-tout-pret-de-la-victoire-811416
END:VEVENT
END:VCALENDAR
