BEGIN:VCALENDAR
VERSION:2.0
PRODID:-//hacksw/handcal//NONSGML v1.0//EN
BEGIN:VEVENT
SUMMARY:LA D2 SURPRISE
UID:4512c49e-cbb3-4e35-a899-7a3994fd51df
DTSTART:20160923T183000Z
DTEND:20160923T213000Z
LOCATION:Localisation Salle Polyvalente - Place du Marche 30131 PUJAUT
CATEGORIES:Sportif
STATUS:
DESCRIPTION:<p>Notre photo : CUTILLAS Ghyslain</p>
 
URL;VALUE=URI:https://ping-courthezonnais.sportsregions.fr/evenements/2016/09/23/la-d2-surprise-811411
END:VEVENT
END:VCALENDAR
