BEGIN:VCALENDAR
VERSION:2.0
PRODID:-//hacksw/handcal//NONSGML v1.0//EN
BEGIN:VEVENT
SUMMARY:CHAMPION DE VAUCLUSE PAR FORFAIT
UID:810f023f-15b1-4b55-ae2e-32c44ed2a201
DTSTART:20160610T183000Z
DTEND:20160610T214500Z
LOCATION:Localisation Boulevard Jean MOULIN 84300 CAVAILLON
CATEGORIES:Sportif
STATUS:
DESCRIPTION:<p>Notre photo : La Pre-Regionale.</p>
 
URL;VALUE=URI:https://ping-courthezonnais.sportsregions.fr/evenements/2016/06/10/champion-de-vaucluse-par-forfait-764846
END:VEVENT
END:VCALENDAR
